BEGIN:VCALENDAR
VERSION:2.0
PRODID:-//LMG Wellness &amp; Weight Loss - ECPv4.9.3.1//NONSGML v1.0//EN
CALSCALE:GREGORIAN
METHOD:PUBLISH
X-WR-CALNAME:LMG Wellness &amp; Weight Loss
X-ORIGINAL-URL:https://lmgweightloss.com
X-WR-CALDESC:Events for LMG Wellness &amp; Weight Loss
BEGIN:VEVENT
DTSTART;TZID=UTC+0:20200109T170000
DTEND;TZID=UTC+0:20200109T180000
DTSTAMP:20260424T072513
CREATED:20191111T211200Z
LAST-MODIFIED:20191111T211200Z
UID:5481-1578589200-1578592800@lmgweightloss.com
SUMMARY:Tune-Up Seminar
DESCRIPTION:Attend our Tune Up Seminar to get yourself in the right mindset to do a quick restart on the Ideal Protein Protocol. Wanting to knock some of the extra pounds from the holidays off? This is the perfect opportunity! Plus all of our tune up dieters will get to experience ideal protein’s new maintenance program! Let’s help you get the weight off and keep it off! \nAttending the seminar and pre-ordering product will get you a discount on your tune up costs! \n
URL:https://lmgweightloss.com/event/tune-up-seminar/
LOCATION:Cornwall Education Center\, 224-D Cornwall Street NW Suite 401\, Leesburg\, VA\, 20176\, United States
GEO:39.1194602;-77.5689644
X-APPLE-STRUCTURED-LOCATION;VALUE=URI;X-ADDRESS=Cornwall Education Center 224-D Cornwall Street NW Suite 401 Leesburg VA 20176 United States;X-APPLE-RADIUS=500;X-TITLE=224-D Cornwall Street NW Suite 401:geo:-77.5689644,39.1194602
END:VEVENT
END:VCALENDAR